BEGIN:VCALENDAR
VERSION:2.0
PRODID:-//ZContent.net//ZapCalLib 1.0//EN
CALSCALE:GREGORIAN
METHOD:PUBLISH
BEGIN:VEVENT
SUMMARY:Der Geizige - Nach Molière - Jugendtheater
LOCATION:Kulturraum Ruswil
DTSTART:20260423T200000
DTEND:20260423T220000
UID:2026-04-20-13-14-52@tropstei.ch
DTSTAMP:20260420T131452
Description:\n«Man soll essen\, um zu leben\, und nicht leben\, 
 um zu essen»Der reiche\, aber geizige Harpagon will noch einm
 al heiraten. Auch seine lebensfrohen und konsumfreudigen Kinder haben Heir
 atspläne - doch leider ganz andere als ihr Vater.Das Jugendth
 eater Ruswil nähert sich dieser Komödie über Habgier\, Überkonsum und 
 soziale Ungleichheit mit den Ausdrucksformen der Commedia dell’arte und 
 des Slapsticks. Dabei erforschen die SpielerInnen\, was uns zum Lachen bri
 ngt - und wie sich Humor auf die Bühne bringen lässt.\n
END:VEVENT
END:VCALENDAR
